BEGIN:VCALENDAR
VERSION:2.0
PRODID:-//ChamberMaster//Event Calendar 2.0//EN
METHOD:PUBLISH
X-PUBLISHED-TTL:P3D
REFRESH-INTERVAL:P3D
CALSCALE:GREGORIAN
BEGIN:VEVENT
DTSTART:20190123T223000Z
DTEND:20190123T233000Z
X-MICROSOFT-CDO-ALLDAYEVENT:FALSE
SUMMARY:YPG Self Defense Course
DESCRIPTION:Calling all young professionals under the age of 40! Join us for a free self defense lesson from Karate Master Bunny Petrillo on January 23rd! Work on skills and your quick reflexes while having fun with other young professionals. We will be working on the mat\, so bring comfy clothes and socks are recommended. \n\n\n\nRegistration is required for this event & you are welcome to register a friend.
X-ALT-DESC;FMTTYPE=text/html:Calling all young professionals under the age of 40! Join us for a&nbsp\;<strong>free</strong>&nbsp\;self defense lesson from Karate Master Bunny Petrillo on January 23rd! Work on skills and your quick reflexes while having fun with other young professionals. We will be working on the mat\, so bring comfy clothes and socks are recommended.&nbsp\;<br />\n<br />\nRegistration is required for this event &amp\; you are welcome to register a friend.&nbsp\;
LOCATION:Petrillo's Karate Campus - Loyalhanna
UID:e.2103.6620
SEQUENCE:3
DTSTAMP:20260419T161900Z
URL:http://business.latrobelaurelvalley.com/events/details/ypg-self-defense-course-6620
END:VEVENT

END:VCALENDAR
