BEGIN:VCALENDAR
VERSION:2.0
PRODID:-//ChamberMaster//Event Calendar 2.0//EN
METHOD:PUBLISH
X-PUBLISHED-TTL:P3D
REFRESH-INTERVAL:P3D
CALSCALE:GREGORIAN
BEGIN:VEVENT
DTSTART:20190425T153000Z
DTEND:20190425T170000Z
X-MICROSOFT-CDO-ALLDAYEVENT:FALSE
SUMMARY:YPG Lunch and Learn at Eastern Westmoreland Career and technical Center
DESCRIPTION:Calling all Young Professionals! Join us at EWCTC for lunch and learning! This SPECIAL opportunity will highlight the skills of the students at EWCTC-your lunch will be prepared and served by the Culinary students.  You will also have the opportunity to receive a professional headshot taken by the Digital Media students! If that isn't enough to have you racing to register\, we will also be providing speaker Tammy Manko\, Director\, Career and Professional Development Center\, IUP\, who will give a presentation on Body Language. The learning that will occur will allow participants to maximize the power of body\n\nlanguage personally as well as professionally\, influencing various constituents\n\nencountered in their day-to-day work.
X-ALT-DESC;FMTTYPE=text/html:Calling all Young Professionals! Join us at EWCTC for lunch and learning! This SPECIAL opportunity will highlight the skills of the students at EWCTC-your lunch will be prepared and served by the Culinary students.&nbsp\; You will also have the opportunity to receive a professional headshot taken by the Digital Media students! If that isn&#39\;t enough to have you racing to register\, we will also be providing speaker Tammy Manko\, Director\, Career and Professional Development Center\, IUP\, who will give a presentation on Body Language.&nbsp\;The learning that will occur will allow participants to maximize the power of body<br />\nlanguage personally as well as professionally\, influencing various constituents<br />\nencountered in their day-to-day work.
LOCATION:Eastern Westmoreland Career and Technical Center 4904 Route 982 Latrobe\, PA 15650
UID:e.2103.6926
SEQUENCE:3
DTSTAMP:20260419T121101Z
URL:http://business.latrobelaurelvalley.com/events/details/ypg-lunch-and-learn-at-eastern-westmoreland-career-and-technical-center-6926
END:VEVENT

END:VCALENDAR
