BEGIN:VCALENDAR
VERSION:2.0
PRODID:-//ChamberMaster//Event Calendar 2.0//EN
METHOD:PUBLISH
X-PUBLISHED-TTL:P3D
REFRESH-INTERVAL:P3D
CALSCALE:GREGORIAN
BEGIN:VEVENT
DTSTART;VALUE=DATE:20180815
DTEND;VALUE=DATE:20180816
TRANSP:TRANSPARENT
X-MICROSOFT-CDO-ALLDAYEVENT:TRUE
SUMMARY:Young Professionals Happy Hour
DESCRIPTION:Want to connect with other young professionals? Join local young professionals and leaders for a fun & informal happy hour at Sharky's Cafe!
X-ALT-DESC;FMTTYPE=text/html:Want to connect with other young professionals? Join local young professionals and leaders for a fun &amp\; informal happy hour at Sharky&#39\;s Cafe!&nbsp\;
LOCATION:Sharky's Cafe Latrobe\, PA 15650
UID:e.2103.6392
SEQUENCE:3
DTSTAMP:20260420T002827Z
URL:http://business.latrobelaurelvalley.com/events/details/young-professional-happy-hour-6392
END:VEVENT

END:VCALENDAR
