BEGIN:VCALENDAR
VERSION:2.0
PRODID:-//ChamberMaster//Event Calendar 2.0//EN
METHOD:PUBLISH
X-PUBLISHED-TTL:P3D
REFRESH-INTERVAL:P3D
CALSCALE:GREGORIAN
BEGIN:VEVENT
DTSTART:20190302T160000Z
DTEND:20190302T200000Z
X-MICROSOFT-CDO-ALLDAYEVENT:FALSE
SUMMARY:Westmoreland County IDD Awareness Wellness Event
DESCRIPTION:Westmoreland County's 2019 IDD Awareness month theme is "Health and Wellness!" We plan to use this opportunity to share Health and Wellness related resources and activities in the center court area of Westmoreland Mall while celebrating diversity and community integration. Our goal is to continue to celebrate our consumers' individuality and eliminate negative stigma surrounding intellectual disabilities. We invite you to come out and join us as we will have interactive games and demonstrations for people of all ages! We also encourage you to sign our pledge to end the "R-Word" [retard(ed)]. The event is FREE and open to the public. Visit www.westmorelandiddawareness.weebly.com for more information.
X-ALT-DESC;FMTTYPE=text/html:Westmoreland County&rsquo\;s 2019 IDD Awareness month theme is &ldquo\;Health and Wellness!&quot\; We plan to use this opportunity to share Health and Wellness related resources and activities in the center court area of Westmoreland Mall while celebrating diversity and community integration. Our goal is to continue to celebrate our consumers&rsquo\; individuality and eliminate negative stigma surrounding intellectual disabilities. We invite you to come out and join us as we will have interactive games and demonstrations for people of all ages! We also encourage you to sign our pledge to end the &quot\;R-Word&quot\; [retard(ed)]. The event is FREE and open to the public. Visit www.westmorelandiddawareness.weebly.com for more information.
LOCATION:Westmoreland Mall Center Court
UID:e.2103.6628
SEQUENCE:3
DTSTAMP:20260419T132729Z
URL:http://business.latrobelaurelvalley.com/events/details/westmoreland-county-idd-awareness-wellness-event-6628
END:VEVENT

END:VCALENDAR
