BEGIN:VCALENDAR
VERSION:2.0
PRODID:-//ChamberMaster//Event Calendar 2.0//EN
METHOD:PUBLISH
X-PUBLISHED-TTL:P3D
REFRESH-INTERVAL:P3D
CALSCALE:GREGORIAN
BEGIN:VEVENT
DTSTART:20181112T170000Z
DTEND:20181113T000000Z
X-MICROSOFT-CDO-ALLDAYEVENT:FALSE
SUMMARY:WCSI Recruitment Event
DESCRIPTION:Westmoreland Casemanagement and Supports\, Inc. (WCSI) is hosting an employment and internship recruiting event on Monday\, November 12th from 12pm-7pm. Please click here to register to attend: https://www.surveymonkey.com/r/WCSIRECRUITMENT
X-ALT-DESC;FMTTYPE=text/html:Westmoreland Casemanagement and Supports\, Inc. (WCSI) is hosting an employment and internship recruiting event on Monday\, November 12th from 12pm-7pm. Please click here to register to attend: https://www.surveymonkey.com/r/WCSIRECRUITMENT
LOCATION:WCSI 770 East Pittsburgh Street Greensburg PA 15601
UID:e.2103.6545
SEQUENCE:3
DTSTAMP:20260419T191841Z
URL:http://business.latrobelaurelvalley.com/events/details/wcsi-recruitment-event-6545
END:VEVENT

END:VCALENDAR
