BEGIN:VCALENDAR
VERSION:2.0
PRODID:-//ChamberMaster//Event Calendar 2.0//EN
METHOD:PUBLISH
X-PUBLISHED-TTL:P3D
REFRESH-INTERVAL:P3D
CALSCALE:GREGORIAN
BEGIN:VEVENT
DTSTART:20180817T000000Z
DTEND:20180817T013000Z
X-MICROSOFT-CDO-ALLDAYEVENT:FALSE
SUMMARY:The Morning Mingle
DESCRIPTION:Join us at our August Monthly Mingle sponsored by Hampton Inn Greensburg on August 16 to learn about the ins and outs of small business employee retention! One of the most difficult aspects of managing your own business is acquiring and retaining quality employees. Some great ways to attract good employees is through benefits and incentives. We will be discussing some the strategies for providing different benefits that will allow you to attract and retain that talent that your company needs. Stephen Small will be presenting this month with tips and tools to help all chamber members. Come prepared with business cards and your 60 second elevator pitch. \n\n\n\n* Registration IS required!
X-ALT-DESC;FMTTYPE=text/html:<span style="font-size:20px\;">Join us at our August Monthly Mingle sponsored by Hampton Inn Greensburg on August 16 to learn about the ins and outs of small business employee retention!&nbsp\;<span style="color: rgb(34\, 34\, 34)\; font-family: arial\, sans-serif\;">One of the most difficult aspects of managing your own business is acquiring and retaining quality employees. Some great ways to attract good employees is through benefits and incentives. We will be discussing some the strategies for providing different benefits that will allow you to attract and retain that talent that your company needs. Stephen Small will be presenting this month with tips and tools to help all chamber members. Come prepared with business cards and your 60 second elevator pitch.&nbsp\;<br />\n<br />\n* Registration IS required!</span></span>
LOCATION:Hampton Inn Greeensburg 1000 Towne Square Greensburg\, PA 15601
UID:e.2103.6396
SEQUENCE:3
DTSTAMP:20260420T003011Z
URL:http://business.latrobelaurelvalley.com/events/details/the-morning-mingle-6396
END:VEVENT

END:VCALENDAR
