BEGIN:VCALENDAR
VERSION:2.0
PRODID:-//ChamberMaster//Event Calendar 2.0//EN
METHOD:PUBLISH
X-PUBLISHED-TTL:P3D
REFRESH-INTERVAL:P3D
CALSCALE:GREGORIAN
BEGIN:VEVENT
DTSTART;VALUE=DATE:20180803
DTEND;VALUE=DATE:20180804
TRANSP:TRANSPARENT
X-MICROSOFT-CDO-ALLDAYEVENT:TRUE
SUMMARY:Steelers Fest
DESCRIPTION:Steelers Fest is hosted at Latrobe Memorial Stadium and over 5\,000 people attend Steelers Fest at Latrobe and the Steelers Night Practice. The event is free and open to the public. This year will feature the Steelers Experience\, autograph signings\, outdoor activities\, vendors\, music\, and fun for the entire family! Steeler fans grab a bite to eat and take advantage of these unique experiences before the event wraps up with the live night practice and a fireworks display.\n\n\n\nThank you to our Touchdown Sponsors: Grand Canyon University\, Doing Better Business\, & Saint Vincent College\, Latrobe Chevrolet & Ford\n\n\n\nThank you to our Field Goal Sponsors: PACE Industries\, Springhill Suites Marriott Latrobe\, & Gutchess Hardwoods\n\n\n\nThank you to our Kickoff Sponsors: Planet Fitness
X-ALT-DESC;FMTTYPE=text/html:<span style="font-size:11.0pt\;">Steelers Fest is hosted at Latrobe Memorial Stadium and over 5\,000 people attend Steelers Fest at Latrobe and the Steelers Night Practice. The event is free and open to the public. This year will feature the Steelers Experience\, autograph signings\, outdoor activities\, vendors\, music\, and fun for the entire family! Steeler fans grab a bite to eat and take advantage of these unique experiences before the event wraps up with the live night practice and a fireworks display.<br />\n<br />\nThank you to our Touchdown Sponsors: Grand Canyon University\, Doing Better Business\, &amp\; Saint Vincent College\, Latrobe Chevrolet &amp\; Ford<br />\n<br />\nThank you to our Field Goal Sponsors: PACE Industries\, Springhill Suites Marriott Latrobe\, &amp\; Gutchess Hardwoods<br />\n<br />\nThank you to our Kickoff Sponsors: Planet Fitness</span>
LOCATION:Latrobe Memorial Stadium
UID:e.2103.3919
SEQUENCE:3
DTSTAMP:20260420T015651Z
URL:http://business.latrobelaurelvalley.com/events/details/steelers-fest-3919
END:VEVENT

END:VCALENDAR
