BEGIN:VCALENDAR
VERSION:2.0
PRODID:-//ChamberMaster//Event Calendar 2.0//EN
METHOD:PUBLISH
X-PUBLISHED-TTL:P3D
REFRESH-INTERVAL:P3D
CALSCALE:GREGORIAN
BEGIN:VEVENT
DTSTART:20190315T200000Z
DTEND:20190315T210000Z
X-MICROSOFT-CDO-ALLDAYEVENT:FALSE
SUMMARY:Ribbon Cutting at Sweet Buzz Bean & Bistro
DESCRIPTION:Sweet Buzz Bean & Bistro will be hosting an event to benefit Pet Friends on Friday\, March 15th. Stop in throughout the day. Pet Friends Irwin will have t-shirt & magnets for sale and local crafters will have goods & boutique items for sale.\n\n\n\nThere will be raffle prizes including the Oaklander Marriott Autograph Collection Luxury Hotel over night stay in downtown Pittsburgh. Tickets are on sale TODAY until March 15th\, you do not need to be present to win. All profits will be donated to Pet Friends.
X-ALT-DESC;FMTTYPE=text/html:Sweet Buzz Bean &amp\; Bistro will be hosting an event to benefit Pet Friends on Friday\, March 15th. Stop in throughout the day. Pet Friends Irwin will have t-shirt &amp\; magnets for sale and local crafters will have goods &amp\; boutique items for sale.<br />\n<br />\nThere will be raffle prizes including the Oaklander Marriott Autograph Collection Luxury Hotel over night stay in downtown Pittsburgh. Tickets are on sale TODAY until March 15th\, you do not need to be present to win. All profits will be donated to Pet Friends.
LOCATION:Sweet Buzz Bean & Bistro 3353 Rt 130 Harrison City\, PA 15636
UID:e.2103.6918
SEQUENCE:3
DTSTAMP:20260419T145000Z
URL:http://business.latrobelaurelvalley.com/events/details/ribbon-cutting-at-sweet-buzz-bean-bistro-6918
END:VEVENT

END:VCALENDAR
