BEGIN:VCALENDAR
VERSION:2.0
PRODID:-//ChamberMaster//Event Calendar 2.0//EN
METHOD:PUBLISH
X-PUBLISHED-TTL:P3D
REFRESH-INTERVAL:P3D
CALSCALE:GREGORIAN
BEGIN:VEVENT
DTSTART:20190329T210000Z
DTEND:20190329T230000Z
X-MICROSOFT-CDO-ALLDAYEVENT:FALSE
SUMMARY:Ribbon Cutting at STAT Ligonier Therapeutic Center
DESCRIPTION:Join us as we celebrate and cut the ribbon for the new barn and outdoor therapy area at STAT Ligonier Therapeutic Center.  Refreshments will be served.\nSTAT provides unique and beneficial H O R S E - P O W E R E D mental health\, physical health\, and wellness services. \n\nWe utilize equine as our prescription for healing.\n\n STAT has been serving vulnerable populations since 2007.\n\n In 2016\, the Ligonier Therapeutic Center opened its doors to offer the specialized treatment strategies of EAGALA and hippotherapy to Western Pennsylvania families. In 2019\, we added PATH International therapeutic riding and adaptive riding services.\n\n \n\nOur equine-assisted programs serve people who are\n\nphysically handicapped\, developmentally delayed\, emotionally/behaviorally challenged\, individuals suffering with PTSD or other mental health diagnoses\, and individuals in addiction recovery.\n\n \n\nWe serve veterans and active duty at no cost.
X-ALT-DESC;FMTTYPE=text/html:<span style="font-size:18px\;"><span style="font-family:times new roman\;"><strong>Join us as we celebrate and cut the ribbon for the new barn and outdoor therapy area at STAT Ligonier Therapeutic Center.&nbsp\; Refreshments will be served.</strong></span></span>\n<h5 class="font_5" style="font-variant-numeric: normal\; font-variant-east-asian: normal\; font-weight: normal\; font-stretch: normal\; font-size: 25px\; line-height: normal\; font-family: droid-serif-w01-regular\, droid-serif-w02-regular\, droid-serif-w10-regular\, serif\; margin: 0px\; padding: 0px\; border: 0px\; outline: 0px\; vertical-align: baseline\; background-image: initial\; background-position: 0px 0px\; background-size: initial\; background-repeat: initial\; background-attachment: initial\; background-origin: initial\; background-clip: initial\; color: rgb(85\, 83\, 83)\; pointer-events: auto\; text-align: center\;"><span style="font-size: 16px\;">STAT provides unique and beneficial H O R S E - P O W E R E D mental health\,&nbsp\;physical health\, and wellness services.</span><span style="font-size: 14px\;">&#8203\;</span></h5>\n\n<h5 class="font_5" style="font-variant-numeric: normal\; font-variant-east-asian: normal\; font-weight: normal\; font-stretch: normal\; font-size: 25px\; line-height: normal\; font-family: droid-serif-w01-regular\, droid-serif-w02-regular\, droid-serif-w10-regular\, serif\; margin: 0px\; padding: 0px\; border: 0px\; outline: 0px\; vertical-align: baseline\; background-image: initial\; background-position: 0px 0px\; background-size: initial\; background-repeat: initial\; background-attachment: initial\; background-origin: initial\; background-clip: initial\; color: rgb(85\, 83\, 83)\; pointer-events: auto\; text-align: center\;"><span style="font-size: 16px\;">We utilize equine as&nbsp\;our&nbsp\;<span style="margin: 0px\; padding: 0px\; border: 0px\; outline: 0px\; vertical-align: baseline\; background-image: initial\; background-position: 0px 0px\; background-size: initial\; background-repeat: initial\; background-attachment: initial\; background-origin: initial\; background-clip: initial\; font-style: italic\;">prescription&nbsp\;</span>for healing.</span></h5>\n\n<p class="font_7" style="font-variant-numeric: normal\; font-variant-east-asian: normal\; font-stretch: normal\; font-size: 17px\; line-height: normal\; font-family: droid-serif-w01-regular\, droid-serif-w02-regular\, droid-serif-w10-regular\, serif\; margin: 0px\; padding: 0px\; border: 0px\; outline: 0px\; vertical-align: baseline\; background-image: initial\; background-position: 0px 0px\; background-size: initial\; background-repeat: initial\; background-attachment: initial\; background-origin: initial\; background-clip: initial\; color: rgb(85\, 83\, 83)\; pointer-events: auto\;"><span style="font-size: 14px\;">&#8203\;</span>STAT has been serving vulnerable populations since 2007.</p>\n\n<p class="font_7" style="font-variant-numeric: normal\; font-variant-east-asian: normal\; font-stretch: normal\; font-size: 17px\; line-height: normal\; font-family: droid-serif-w01-regular\, droid-serif-w02-regular\, droid-serif-w10-regular\, serif\; margin: 0px\; padding: 0px\; border: 0px\; outline: 0px\; vertical-align: baseline\; background-image: initial\; background-position: 0px 0px\; background-size: initial\; background-repeat: initial\; background-attachment: initial\; background-origin: initial\; background-clip: initial\; color: rgb(85\, 83\, 83)\; pointer-events: auto\;"><span class="wixGuard" style="margin: 0px\; padding: 0px\; border: 0px\; outline: 0px\; vertical-align: baseline\; background-image: initial\; background-position: 0px 0px\; background-size: initial\; background-repeat: initial\; background-attachment: initial\; background-origin: initial\; background-clip: initial\;">&#8203\;</span>In 2016\, the Ligonier Therapeutic Center opened its doors to offer the specialized treatment strategies of EAGALA and hippotherapy to Western Pennsylvania families. In 2019\, we added PATH International therapeutic riding and adaptive riding services.</p>\n\n<p class="font_7" style="font-variant-numeric: normal\; font-variant-east-asian: normal\; font-stretch: normal\; font-size: 17px\; line-height: normal\; font-family: droid-serif-w01-regular\, droid-serif-w02-regular\, droid-serif-w10-regular\, serif\; margin: 0px\; padding: 0px\; border: 0px\; outline: 0px\; vertical-align: baseline\; background-image: initial\; background-position: 0px 0px\; background-size: initial\; background-repeat: initial\; background-attachment: initial\; background-origin: initial\; background-clip: initial\; color: rgb(85\, 83\, 83)\; pointer-events: auto\;"><span class="wixGuard" style="margin: 0px\; padding: 0px\; border: 0px\; outline: 0px\; vertical-align: baseline\; background-image: initial\; background-position: 0px 0px\; background-size: initial\; background-repeat: initial\; background-attachment: initial\; background-origin: initial\; background-clip: initial\;">&#8203\;</span></p>\n\n<p class="font_7" style="font-variant-numeric: normal\; font-variant-east-asian: normal\; font-stretch: normal\; font-size: 17px\; line-height: normal\; font-family: droid-serif-w01-regular\, droid-serif-w02-regular\, droid-serif-w10-regular\, serif\; margin: 0px\; padding: 0px\; border: 0px\; outline: 0px\; vertical-align: baseline\; background-image: initial\; background-position: 0px 0px\; background-size: initial\; background-repeat: initial\; background-attachment: initial\; background-origin: initial\; background-clip: initial\; color: rgb(85\, 83\, 83)\; pointer-events: auto\;">Our equine-assisted programs serve people who are</p>\n\n<p class="font_7" style="font-variant-numeric: normal\; font-variant-east-asian: normal\; font-stretch: normal\; font-size: 17px\; line-height: normal\; font-family: droid-serif-w01-regular\, droid-serif-w02-regular\, droid-serif-w10-regular\, serif\; margin: 0px\; padding: 0px\; border: 0px\; outline: 0px\; vertical-align: baseline\; background-image: initial\; background-position: 0px 0px\; background-size: initial\; background-repeat: initial\; background-attachment: initial\; background-origin: initial\; background-clip: initial\; color: rgb(85\, 83\, 83)\; pointer-events: auto\;">physically handicapped\,&nbsp\;developmentally delayed\, emotionally/behaviorally challenged\, individuals suffering with PTSD or other mental health diagnoses\, and individuals in addiction recovery.</p>\n\n<p class="font_7" style="font-variant-numeric: normal\; font-variant-east-asian: normal\; font-stretch: normal\; font-size: 17px\; line-height: normal\; font-family: droid-serif-w01-regular\, droid-serif-w02-regular\, droid-serif-w10-regular\, serif\; margin: 0px\; padding: 0px\; border: 0px\; outline: 0px\; vertical-align: baseline\; background-image: initial\; background-position: 0px 0px\; background-size: initial\; background-repeat: initial\; background-attachment: initial\; background-origin: initial\; background-clip: initial\; color: rgb(85\, 83\, 83)\; pointer-events: auto\;"><span class="wixGuard" style="margin: 0px\; padding: 0px\; border: 0px\; outline: 0px\; vertical-align: baseline\; background-image: initial\; background-position: 0px 0px\; background-size: initial\; background-repeat: initial\; background-attachment: initial\; background-origin: initial\; background-clip: initial\;">&#8203\;</span></p>\n\n<p class="font_7" style="font-variant-numeric: normal\; font-variant-east-asian: normal\; font-stretch: normal\; font-size: 17px\; line-height: normal\; font-family: droid-serif-w01-regular\, droid-serif-w02-regular\, droid-serif-w10-regular\, serif\; margin: 0px\; padding: 0px\; border: 0px\; outline: 0px\; vertical-align: baseline\; background-image: initial\; background-position: 0px 0px\; background-size: initial\; background-repeat: initial\; background-attachment: initial\; background-origin: initial\; background-clip: initial\; color: rgb(85\, 83\, 83)\; pointer-events: auto\; text-align: center\;"><span style="margin: 0px\; padding: 0px\; border: 0px\; outline: 0px\; vertical-align: baseline\; background-image: initial\; background-position: 0px 0px\; background-size: initial\; background-repeat: initial\; background-attachment: initial\; background-origin: initial\; background-clip: initial\; font-style: italic\;">We serve veterans and active duty at no cost.&nbsp\;</span></p>\n
LOCATION:STAT Ligonier Therapeutic Center 24 Stom Road Ligonier\, PA (724) 593-4742
UID:e.2103.6917
SEQUENCE:3
DTSTAMP:20260419T145128Z
URL:http://business.latrobelaurelvalley.com/events/details/ribbon-cutting-at-stat-ligonier-therapeutic-center-6917
END:VEVENT

END:VCALENDAR
