BEGIN:VCALENDAR
VERSION:2.0
PRODID:-//ChamberMaster//Event Calendar 2.0//EN
METHOD:PUBLISH
X-PUBLISHED-TTL:P3D
REFRESH-INTERVAL:P3D
CALSCALE:GREGORIAN
BEGIN:VEVENT
DTSTART:20180217T000000Z
DTEND:20180217T030000Z
X-MICROSOFT-CDO-ALLDAYEVENT:FALSE
SUMMARY:"One Life to Lose" Murder Mystery Dinner Show at Ramada Ligonier
DESCRIPTION:Join us at Ramada Ligonier on Friday\, February 16th at 7PM for a Murder Mystery Comedy Dinner Show\n\n\n\nOne Life to Lose Murder Mystery Show\n\n"When television's highest rated soap opera faces technical difficulties\, the actors must mount an outrageous live performance in which everything becomes real - even the murder!"\n\n\n\nDinner\, Show\, Tax & Gratuity - $40 per person\n\nOvernight Dinner & Show Package - $192 per couple includes Murder Mystery Show & Dinner for Two\, One Night Standard Lodging\, Breakfast for Two\, All Taxes & Gratuities\n\n\n\nMenu:\n\n	Salad Station\n	Chicken Du Marco (Peppers\, Mushrooms\, Onions\, Creamy Swiss Cheese Sauce)\n	Herb and Garlic Pork Tenderloin\n	Pasta Guillaume (Sundried & Fresh Tomatoes\, Spinach\, Feta\, Garlic\, EVOO)\n	Roasted Red Skin Potatoes\n	Seasonal Vegetable\n	Dessert Table\n	Coffee\, Hot Tea & Iced Tea\n\nCash Bar Available\n\n\n\nAll Shows Considered PG-13!\n\n\n\nCall Ramada Ligonier for reservations or more information at 724-238-9545 or email info@ramadaligonier.com
X-ALT-DESC;FMTTYPE=text/html:Join us at Ramada Ligonier on Friday\, February 16th at 7PM for a Murder Mystery Comedy Dinner Show<br />\n<br />\n<strong>One Life to Lose Murder Mystery Show</strong><br />\n<em>&quot\;When television&#39\;s highest rated soap opera faces technical difficulties\, the actors must mount an outrageous live performance in which everything becomes real - even the murder!&quot\;</em><br />\n<br />\nDinner\, Show\, Tax &amp\; Gratuity - $40 per person<br />\nOvernight Dinner &amp\; Show Package - $192 per couple includes Murder Mystery Show &amp\; Dinner for Two\, One Night Standard Lodging\, Breakfast for Two\, All Taxes &amp\; Gratuities<br />\n<br />\nMenu:\n<ul>\n	<li>Salad Station</li>\n	<li>Chicken Du Marco (Peppers\, Mushrooms\, Onions\, Creamy Swiss Cheese Sauce)</li>\n	<li>Herb and Garlic Pork Tenderloin</li>\n	<li>Pasta Guillaume (Sundried &amp\; Fresh Tomatoes\, Spinach\, Feta\, Garlic\, EVOO)</li>\n	<li>Roasted Red Skin Potatoes</li>\n	<li>Seasonal Vegetable</li>\n	<li>Dessert Table</li>\n	<li>Coffee\, Hot Tea &amp\; Iced Tea</li>\n</ul>\nCash Bar Available<br />\n<br />\nAll Shows Considered PG-13!<br />\n<br />\nCall Ramada Ligonier for reservations or more information at 724-238-9545 or email info@ramadaligonier.com&nbsp\;<br />\n<br />\n&nbsp\;
LOCATION:Ramada Ligonier
UID:e.2103.2859
SEQUENCE:3
DTSTAMP:20260422T182850Z
URL:http://business.latrobelaurelvalley.com/events/details/one-life-to-lose-murder-mystery-dinner-show-at-ramada-ligonier-2859
END:VEVENT

END:VCALENDAR
