BEGIN:VCALENDAR
VERSION:2.0
PRODID:-//ChamberMaster//Event Calendar 2.0//EN
METHOD:PUBLISH
X-PUBLISHED-TTL:P3D
REFRESH-INTERVAL:P3D
CALSCALE:GREGORIAN
BEGIN:VEVENT
DTSTART:20190104T220000Z
DTEND:20190105T010000Z
X-MICROSOFT-CDO-ALLDAYEVENT:FALSE
SUMMARY:Multi-Chamber Networking Event
DESCRIPTION:Join the Pittsburgh Business Exchange and 10 other regioal business associations and Chambers of Commerce for the 2019 Winter Kickoff.
X-ALT-DESC;FMTTYPE=text/html:Join the Pittsburgh Business Exchange and 10 other regioal business associations and Chambers of Commerce for the 2019 Winter Kickoff.<br />\n<br />\n&nbsp\; &nbsp\;&nbsp\;
LOCATION:Seven Springs Matterhorn Lounge
UID:e.2103.6580
SEQUENCE:3
DTSTAMP:20260419T161930Z
URL:http://business.latrobelaurelvalley.com/events/details/multi-chamber-networking-event-6580
END:VEVENT

END:VCALENDAR
