BEGIN:VCALENDAR
VERSION:2.0
PRODID:-//ChamberMaster//Event Calendar 2.0//EN
METHOD:PUBLISH
X-PUBLISHED-TTL:P3D
REFRESH-INTERVAL:P3D
CALSCALE:GREGORIAN
BEGIN:VEVENT
DTSTART:20181018T120000Z
DTEND:20181018T133000Z
X-MICROSOFT-CDO-ALLDAYEVENT:FALSE
SUMMARY:Morning Mingle SPONSORED BY Grand Canyon University
DESCRIPTION:Join us for a FREE Chamber AM Networking Breakfast sponsored by Grand Canyon University! We've got the hot buffet and coffee\, if you've got the need to NETWORK!\n\n\n\nGrand Canyon University is Arizona's premiere private university. With students across the nation\, GCU offers special programs and scholarships to GLLV Chamber members\, family\, and staff. Allen Martello on will be on-site to discuss available programs and opportunities! \n\n\n\n- Business Cards are strongly encouraged - and needed to win a PRIZE!\n\n- Marketing material IS permitted to place on tables. Please take remaining materials with you at end of event.
X-ALT-DESC;FMTTYPE=text/html:Join us for a&nbsp\;<strong><u>FREE</u></strong>&nbsp\;Chamber AM Networking Breakfast sponsored by&nbsp\;<strong><u>Grand Canyon University!</u>&nbsp\;</strong>We&#39\;ve got the hot buffet and coffee\, if you&#39\;ve got the need to&nbsp\;<strong>NETWORK</strong>!<br />\n<br />\nGrand Canyon University is Arizona&#39\;s premiere private university. With students across the nation\, GCU offers special programs and scholarships to GLLV Chamber members\, family\, and staff. Allen Martello on will be on-site to discuss available programs and opportunities!&nbsp\;<br />\n<br />\n-&nbsp\;<strong>Business Cards</strong>&nbsp\;are strongly encouraged - and needed to win a PRIZE!<br />\n-&nbsp\;<strong>Marketing material</strong>&nbsp\;IS permitted to place on tables. Please take remaining materials with you at end of event.&nbsp\;<br />\n&nbsp\;
LOCATION:Springhill Suites Marriott Latrobe 115 Arnold Palmer Drive Latrobe\, PA 15650
UID:e.2103.6463
SEQUENCE:3
DTSTAMP:20260419T210203Z
URL:http://business.latrobelaurelvalley.com/events/details/morning-mingle-sponsored-by-grand-canyon-university-6463
END:VEVENT

END:VCALENDAR
