BEGIN:VCALENDAR
VERSION:2.0
PRODID:-//ChamberMaster//Event Calendar 2.0//EN
METHOD:PUBLISH
X-PUBLISHED-TTL:P3D
REFRESH-INTERVAL:P3D
CALSCALE:GREGORIAN
BEGIN:VEVENT
DTSTART:20190321T120000Z
DTEND:20190321T133000Z
X-MICROSOFT-CDO-ALLDAYEVENT:FALSE
SUMMARY:Morning Mingle at Worklink Staffing
DESCRIPTION:Calling all early risers! Need hot coffee\, hot food and HOT Networking?! We've got it covered! Join us from 8:00 am - 9:30 am for our popular (and monthly!) Chamber Networking Breakfast! Bring your business cards\, "60-second business commercial"\,  and hungry stomach to Worklink Staffing and start your day with us! \n\n\n\nDomenic DeYulis will discuss tips on better recruiting\, and the  perks of using a staffing agency
X-ALT-DESC;FMTTYPE=text/html:<span style="color: rgb(51\, 51\, 51)\; font-family: sans-serif\, Arial\, Verdana\, &quot\;Trebuchet MS&quot\;\; font-size: 13px\; background-color: rgb(255\, 255\, 255)\;">Calling all early risers! Need hot coffee\, hot food and HOT Networking?! We&#39\;ve got it covered! Join us from</span><u style="color: rgb(51\, 51\, 51)\; font-family: sans-serif\, Arial\, Verdana\, &quot\;Trebuchet MS&quot\;\; font-size: 13px\;"><strong>&nbsp\;8:00 am - 9:30 am</strong></u><span style="color: rgb(51\, 51\, 51)\; font-family: sans-serif\, Arial\, Verdana\, &quot\;Trebuchet MS&quot\;\; font-size: 13px\; background-color: rgb(255\, 255\, 255)\;">&nbsp\;for our popular (and monthly!) Chamber Networking Breakfast! Bring your business cards\, &quot\;60-second business commercial&quot\;\,&nbsp\; and hungry stomach to <strong>Worklink Staffing</strong></span><span style="color: rgb(51\, 51\, 51)\; font-family: sans-serif\, Arial\, Verdana\, &quot\;Trebuchet MS&quot\;\; font-size: 13px\; background-color: rgb(255\, 255\, 255)\;">&nbsp\;and start your day with us!&nbsp\;<br />\n<br />\nDomenic DeYulis will discuss tips on better recruiting\, and the&nbsp\; perks of using a staffing agency</span>
LOCATION:Workling Staffing 4338 Latrobe Street PO Box 671 Youngstown\, PA 15696
UID:e.2103.6770
SEQUENCE:3
DTSTAMP:20260419T144634Z
URL:http://business.latrobelaurelvalley.com/events/details/morning-mingle-at-worklink-staffing-6770
END:VEVENT

END:VCALENDAR
