BEGIN:VCALENDAR
VERSION:2.0
PRODID:-//ChamberMaster//Event Calendar 2.0//EN
METHOD:PUBLISH
X-PUBLISHED-TTL:P3D
REFRESH-INTERVAL:P3D
CALSCALE:GREGORIAN
BEGIN:VEVENT
DTSTART:20181023T200000Z
DTEND:20181023T211500Z
X-MICROSOFT-CDO-ALLDAYEVENT:FALSE
SUMMARY:Membership Orientation
DESCRIPTION:Calling all GLLV Members! Join us for Membership Orientation and learn how to take advantage of ALL your Chamber Member Benefits. During this session\, Chamber Staff and Ambassadors will be teaching you:\n\n\n	How to utilize the Member Information Center\n	Fill in your Chamber Website Profile\n	Sign up to receive Chamber News and Updates\n	Stock The Neighborhood Visitor & Information Center with your information\n	Learn about marketing opportunities with the GLLV Chamber\n	How to take advantage of the Chamber's social media outlets\n	Upcoming networking events\n	Meet your Chamber Mentor-Ambassador\n	and much more!\n\nDon't miss this chance to learn all about the benefits of membership in the GLLV Chamber and how to make certain your maximizing each and every one!\n\n\n\nPlease RSVP\, space is limited!
X-ALT-DESC;FMTTYPE=text/html:<p>Calling all&nbsp\;GLLV Members! Join us for Membership Orientation and learn how to take advantage of ALL your Chamber Member Benefits. During this session\, Chamber Staff and Ambassadors will be teaching you:</p>\n\n<ul>\n	<li>How to utilize the Member Information Center</li>\n	<li>Fill in your Chamber Website Profile</li>\n	<li>Sign up to receive Chamber News and Updates</li>\n	<li>Stock The Neighborhood Visitor &amp\; Information Center with your information</li>\n	<li>Learn about marketing opportunities with the GLLV Chamber</li>\n	<li>How to take advantage of the Chamber&#39\;s social media outlets</li>\n	<li>Upcoming networking events</li>\n	<li>Meet your Chamber Mentor-Ambassador</li>\n	<li>and much more!</li>\n</ul>\nDon&#39\;t miss this chance to learn all about the benefits of membership in the GLLV Chamber and how to make certain your maximizing each and every one!<br />\n<br />\nPlease RSVP\, space is limited!
LOCATION:The Neighborhood Visitor & Information Center 3960 State Route 30 (Sharky's Plaza) Latrobe\, PA 15650
UID:e.2103.6458
SEQUENCE:3
DTSTAMP:20260419T205424Z
URL:http://business.latrobelaurelvalley.com/events/details/membership-orientation-6458
END:VEVENT

END:VCALENDAR
