BEGIN:VCALENDAR
VERSION:2.0
PRODID:-//ChamberMaster//Event Calendar 2.0//EN
METHOD:PUBLISH
X-PUBLISHED-TTL:P3D
REFRESH-INTERVAL:P3D
CALSCALE:GREGORIAN
BEGIN:VEVENT
DTSTART:20190201T163000Z
DTEND:20190201T180000Z
X-MICROSOFT-CDO-ALLDAYEVENT:FALSE
SUMMARY:Lunch & Learn @ DeNunzio's Italian Chophouse
DESCRIPTION:Join us at Denunzio's Italian Chophouse at Arnold Palmer Regional Airport on February 1st for 2019's first Lunch & Learn.\n\n\n\nDana Levenson will be giving us a preview on the upcoming Dale Carnegie Course.Thinking is what takes us from where we are to where we want to go by shifting our perspective and turning "I can't" into "How can I?" Sign up for this Lunch and Learn where you will learn the Dale Carnegie methodology of Breakthrough Thinking and turn 2019 into an "I CAN" year!\n\n\n\nDana has an Associate's Degree in Business and has furthered her studies in Communication and Organizational Psychology at Duquense University. With almost 10 years of experience as a Performance Consultant with the Dale Carnegie Franchise situated in Pittsburgh\, PA\, Dana works with companies\, associations\, and individuals to identify skill development opportunities that will significantly increase personal and professional success. \n\n\n\nPrior to Dale Carnegie\, Dana has 15 years of business administration experience in the commercial real estate\, technology\, and financial industries. She is currently focusing extra energies on promoting programs that give back to our communities\, with an emphasis on young adults and police officers.
X-ALT-DESC;FMTTYPE=text/html:<p><span dir="ltr"><q><span style="font-family:arial\;"><span style="font-size:14px\;">Join us at Denunzio&#39\;s Italian Chophouse at Arnold Palmer Regional Airport on February 1st for 2019&#39\;s first Lunch &amp\; Learn.<br />\n<br />\nDana Levenson will be giving us a preview on the upcoming Dale Carnegie Course.<span style="color: rgba(0\, 0\, 0\, 0.75)\; white-space: pre-wrap\;">Thinking is what takes us from where we are to where we want to go by shifting our perspective and turning &quot\;I can&#39\;t&quot\; into &quot\;How can I?&quot\; Sign up for this Lunch and Learn where you will learn the Dale Carnegie methodology of Breakthrough Thinking and turn 2019 into an &quot\;I CAN&quot\; year!</span><br />\n<br />\nDana&nbsp\;<span style="color: rgb(68\, 68\, 68)\;">has an Associate&#39\;s Degree in Business and has furthered her studies in Communication and Organizational Psychology at Duquense University. With almost 10 years of experience as a Performance Consultant with the Dale Carnegie Franchise situated in Pittsburgh\, PA\, Dana works with companies\, associations\, and individuals to identify skill development opportunities that will significantly increase personal and professional success.&nbsp\;</span><br style="bottom: auto\; box-sizing: content-box\; clear: none\; color: rgb(68\, 68\, 68)\; content: normal\; direction: inherit\; display: inline\; empty-cells: show\; float: none\; font-variant-numeric: inherit\; font-variant-east-asian: inherit\; font-stretch: inherit\; font-size: 16px\; font-family: Arial\, Helvetica\, sans-serif\; left: auto\; line-height: inherit\; margin: 0px\; max-height: none\; max-width: none\; min-height: initial\; min-width: initial\; opacity: 1\; outline-offset: 0px\; overflow: visible\; padding: 0px\; position: static\; resize: none\; right: auto\; table-layout: auto\; text-overflow: clip\; top: auto\; vertical-align: baseline\; visibility: inherit\; word-break: inherit\; overflow-wrap: inherit\; z-index: auto\; background-image: none\; background-position: initial\; background-size: initial\; background-repeat: initial\; background-attachment: initial\; background-origin: initial\; background-clip: initial\; border: none\; border-collapse: separate\; border-radius: 0px\; height: auto\; width: auto\;" />\n<br style="bottom: auto\; box-sizing: content-box\; clear: none\; color: rgb(68\, 68\, 68)\; content: normal\; direction: inherit\; display: inline\; empty-cells: show\; float: none\; font-variant-numeric: inherit\; font-variant-east-asian: inherit\; font-stretch: inherit\; font-size: 16px\; font-family: Arial\, Helvetica\, sans-serif\; left: auto\; line-height: inherit\; margin: 0px\; max-height: none\; max-width: none\; min-height: initial\; min-width: initial\; opacity: 1\; outline-offset: 0px\; overflow: visible\; padding: 0px\; position: static\; resize: none\; right: auto\; table-layout: auto\; text-overflow: clip\; top: auto\; vertical-align: baseline\; visibility: inherit\; word-break: inherit\; overflow-wrap: inherit\; z-index: auto\; background-image: none\; background-position: initial\; background-size: initial\; background-repeat: initial\; background-attachment: initial\; background-origin: initial\; background-clip: initial\; border: none\; border-collapse: separate\; border-radius: 0px\; height: auto\; width: auto\;" />\n<span style="color: rgb(68\, 68\, 68)\;">Prior to Dale Carnegie\, Dana has 15 years of business administration experience in the commercial real estate\, technology\, and financial industries. She is currently&nbsp\;</span><font style="color: rgb(68\, 68\, 68)\; font-size: 16px\;"><span style="margin: 0px\; padding: 0px\; border: none\; font-style: inherit\; font-variant: inherit\; font-weight: inherit\; font-stretch: inherit\; line-height: inherit\; vertical-align: baseline\; bottom: auto\; box-sizing: content-box\; clear: none\; color: inherit\; content: normal\; direction: inherit\; empty-cells: show\; left: auto\; letter-spacing: inherit\; max-height: none\; max-width: none\; min-height: initial\; min-width: initial\; opacity: 1\; outline-offset: 0px\; overflow: visible\; position: static\; resize: none\; right: auto\; table-layout: auto\; text-align: inherit\; text-indent: inherit\; text-overflow: clip\; text-transform: inherit\; top: auto\; visibility: inherit\; white-space: inherit\; word-break: inherit\; word-spacing: inherit\; overflow-wrap: inherit\; z-index: auto\; background: none\; border-collapse: separate\; border-radius: 0px\; height: auto\; width: auto\; box-shadow: none\;">focusing extra energies on promoting programs that give back to our communities\, with an emphasis on young adults and police officers.</span></font></span></span></q></span></p>\n
LOCATION:DeNunzio's Italian Chophouse Arnold Palmer Regional Airport 148 Aviation Lane Latrobe\, PA 15650
UID:e.2103.6607
SEQUENCE:3
DTSTAMP:20260419T144837Z
URL:http://business.latrobelaurelvalley.com/events/details/lunch-learn-denunzio-s-italian-chophouse-6607
END:VEVENT

END:VCALENDAR
