BEGIN:VCALENDAR
VERSION:2.0
PRODID:-//ChamberMaster//Event Calendar 2.0//EN
METHOD:PUBLISH
X-PUBLISHED-TTL:P3D
REFRESH-INTERVAL:P3D
CALSCALE:GREGORIAN
BEGIN:VEVENT
DTSTART:20190405T153000Z
DTEND:20190405T170000Z
X-MICROSOFT-CDO-ALLDAYEVENT:FALSE
SUMMARY:Lunch & Learn at Latrobe Art Center
DESCRIPTION:Darlene Karpaski\, Founder & CEO\, Your Mission To Money will be sharing how re-training you brain is the key to attaining next-level results in your personal and professional life. When you unleash your invisible assets you become the powerful leader your family\, business and community needs. Mental programs don't need to keep you from making more money and impact. You are worthy beyond measure and it's your time to rise. \n\nDarlene has a Master's Degree in Psychology and is a National Board Certified Hypnotherapist since 1996. With 30 years of experience she has helped transform the lives of nearly 7\,000 individuals\, professionals\, CEO's\, coaches and organizations to overcome limits and achieve higher levels of purpose\, power\, and profitability. \n\nShe has created several successful businesses in mental health\, real estate and business success coaching. Darlene has also re-organized businesses to become thriving\, client-centered success stories. \n\nBy the conclusion of this training you will be able to:\n\n1.  Get your brain in the game so you can easily FOCUS and take consistent action toward your goals.\n\n2.  Unleash your untapped potential & ignite a newfound passion\, purpose  & power that helps you achieve higher level outcomes. \n\n3.  The #1 Faith on Fire strategy to turning your brain into a goal-achieving magician.
X-ALT-DESC;FMTTYPE=text/html:<div style="color: rgb(34\, 34\, 34)\; font-family: verdana\, helvetica\, sans-serif\; font-size: 16px\; background-color: rgb(255\, 255\, 255)\;">\n<p class="m_-8326526723816425397ydp33c60f3cMsoNormal"><span style="font-size:16px\;"><span style="color: rgb(51\, 51\, 51)\; background-color: rgb(255\, 255\, 255)\;">Darlene Karpaski\, </span><span style="color: rgb(51\, 51\, 51)\;">Founder &amp\; CEO\,&nbsp\;Your Mission To Money&nbsp\;w</span>ill</span><span style="font-family:arial\;"><span style="font-size:16px\;"> be sharing how re-training you brain is the key to attaining next-level results in your personal and professional life. When you unleash your invisible assets you become the powerful leader your family\, business and community needs. Mental programs don&#39\;t need to keep you from making more money and impact. You are worthy beyond measure and it&#39\;s your time to rise.&nbsp\;</span></span></p>\n\n<p class="m_-8326526723816425397ydp33c60f3cMsoNormal"><span style="font-family:arial\;"><span style="font-size:16px\;">Darlene has a Master&#39\;s Degree in Psychology and is a National Board Certified Hypnotherapist since 1996. With 30 years of experience she has helped transform the lives of nearly 7\,000 individuals\, professionals\, CEO&#39\;s\, coaches and organizations to overcome limits and achieve higher levels of purpose\, power\, and profitability.&nbsp\;</span></span></p>\n\n<p class="m_-8326526723816425397ydp33c60f3cMsoNormal"><span style="font-family:arial\;"><span style="font-size:16px\;">She has created several successful businesses in mental health\, real estate and business success coaching.&nbsp\;Darlene has also re-organized businesses to become thriving\, client-centered success stories<span style="color: blue\;">.&nbsp\;</span></span></span></p>\n\n<p class="m_-8326526723816425397ydp33c60f3cMsoNormal"><span style="font-family:arial\;"><span style="font-size:16px\;"><b><span style="color: red\;">By the conclusion of this training you will be able to:</span></b></span></span></p>\n\n<p class="m_-8326526723816425397ydp33c60f3cMsoListParagraphCxSpFirst"><span style="font-family:arial\;"><span style="font-size:16px\;">1.<span style="font-stretch: normal\; line-height: normal\;">&nbsp\;&nbsp\;</span>Get your brain in the game so you can easily FOCUS and take consistent action toward your goals.</span></span></p>\n\n<p class="m_-8326526723816425397ydp33c60f3cMsoListParagraphCxSpMiddle"><span style="font-family:arial\;"><span style="font-size:16px\;">2.<span style="font-stretch: normal\; line-height: normal\;">&nbsp\;&nbsp\;</span>Unleash your untapped potential &amp\; ignite a newfound passion\, purpose&nbsp\;&nbsp\;&amp\; power that helps you achieve higher level outcomes.&nbsp\;</span></span></p>\n\n<p class="m_-8326526723816425397ydp33c60f3cMsoListParagraphCxSpLast"><span style="font-family:arial\;"><span style="font-size:16px\;">3.<span style="font-stretch: normal\; line-height: normal\;">&nbsp\;&nbsp\;</span>The #1 Faith on Fire strategy to turning your brain into a goal-achieving magician. &nbsp\;</span></span></p>\n\n<div>&nbsp\;</div>\n</div>\n
LOCATION:Latrobe Art Center 819 Ligonier Street Latrobe\, PA 15650
UID:e.2103.6923
SEQUENCE:3
DTSTAMP:20260419T114135Z
URL:http://business.latrobelaurelvalley.com/events/details/lunch-learn-at-latrobe-art-center-6923
END:VEVENT

END:VCALENDAR
