BEGIN:VCALENDAR
VERSION:2.0
PRODID:-//ChamberMaster//Event Calendar 2.0//EN
METHOD:PUBLISH
X-PUBLISHED-TTL:P3D
REFRESH-INTERVAL:P3D
CALSCALE:GREGORIAN
BEGIN:VEVENT
DTSTART:20190301T163000Z
DTEND:20190301T180000Z
X-MICROSOFT-CDO-ALLDAYEVENT:FALSE
SUMMARY:Lunch and Learn @ Christ our Shepherd Center
DESCRIPTION:Join us for a great mid-day break\, including networking time\, a great lunch\, and speaker PSP Trooper Stephen Limani! We will be talking about active shooter protocol and workplace violence prevention.
X-ALT-DESC;FMTTYPE=text/html:<em><span id="docs-internal-guid-6b363724-7fff-ca7e-5e6f-f9d47af179c1"><span style="font-size: 11pt\; font-style: italic\; font-variant-numeric: normal\; font-variant-east-asian: normal\; vertical-align: baseline\; white-space: pre-wrap\;">Join us for a great mid-day break\, including networking time\, a great lunch\, and speaker PSP Trooper Stephen Limani! We will be talking about active shooter protocol and workplace violence prevention. </span></span></em>
LOCATION:Christ our Shepherd Center (formerly Bishop Connaire Center)\, Greensburg\, PA
UID:e.2103.6633
SEQUENCE:3
DTSTAMP:20260419T144821Z
URL:http://business.latrobelaurelvalley.com/events/details/lunch-and-learn-christ-our-shepherd-center-6633
END:VEVENT

END:VCALENDAR
