BEGIN:VCALENDAR
VERSION:2.0
PRODID:-//ChamberMaster//Event Calendar 2.0//EN
METHOD:PUBLISH
X-PUBLISHED-TTL:P3D
REFRESH-INTERVAL:P3D
CALSCALE:GREGORIAN
BEGIN:VEVENT
DTSTART:20190503T153000Z
DTEND:20190503T170000Z
X-MICROSOFT-CDO-ALLDAYEVENT:FALSE
SUMMARY:Lunch and Learn at Chef Datos Table
DESCRIPTION:Seeds of Adversity: Blessings in Disguise\n\nChuck Bolena will take you on a personal journey\, introducing you to the true power thoughts have over your life\, the myth of adversity\, and how the secret of your success is found in your daily routines.\n\nHe will challenge you to take a hard look in the mirror\, get uncomfortable and think life through to the end.  If you don't like how things are progressing\, he will help you discover how you can choose to live life by design and be the authentic person you were designed to be\, meant to be\, and desire to be. \n\nYou will walk away inspired and with a new sense of understanding about how your life came to be   good and bad   and empowered with the realization that you can improve every area of your life   make the bad good\, the good great and the great incredible.  You will be able to take this information\, personalize it\, and use it to raise your standards of excellence and live with intention instead of living by default.\n\nChuck is a certified John Maxwell Development and Leadership Coach\, Speaker\, DISC Behavioral Analyst\, and an Amazon International Best Selling Author.  He holds a Master's Degree in Counseling and Development and has a successful and diverse\, 23 year background in pharmaceutical sales\, medical sales\, mid-level management and military leadership as an Air Force Officer.  He's the President of Results from Thinking and his passion is to help inspire others to have more\, do more\, and be more in life.
X-ALT-DESC;FMTTYPE=text/html:<span style="font-family:arial\;"><span style="font-size:14pt\;">Seeds of Adversity: Blessings in Disguise</span></span><br />\n<span style="font-size:14px\;"><span style="font-family:arial\;">Chuck</span>&nbsp\;Bolena</span>&nbsp\;will take you on a personal journey\, introducing you to the true power thoughts have over your life\, the myth of adversity\, and how the secret of your success is found in your daily routines.<br />\n<span style="font-size:14px\;"><span style="font-family:arial\;">He will challenge you to take a hard look in the mirror\, get uncomfortable and think life through to the end.&nbsp\; If you don&rsquo\;t like how things are progressing\, he will help you discover how you can choose to live life by design and be the authentic person you were designed to be\, meant to be\, and desire to be.&nbsp\;</span></span><br />\n<span style="font-size:14px\;"><span style="font-family:arial\;">You will walk away inspired and with a new sense of understanding about how your life came to be &ndash\; good and bad &ndash\; and empowered with the realization that you can improve every area of your life &ndash\; make the bad good\, the good great and the great incredible.</span>&nbsp\;&nbsp\;<span style="font-family:arial\;">You will be able to take this information\, personalize it\, and use it to raise your standards of excellence and live with intention instead of living by default.</span></span><br />\n<span style="font-family:arial\;"><span style="font-size:14px\;">Chuck</span>&nbsp\;is a certified John Maxwell Development and Leadership Coach\, Speaker\, DISC Behavioral Analyst\, and an Amazon International Best Selling Author.&nbsp\; He holds a Master&rsquo\;s Degree in Counseling and Development and has a successful and diverse\, 23 year background in pharmaceutical sales\, medical sales\, mid-level management and military leadership as an Air Force Officer.&nbsp\; He&rsquo\;s the President of Results from Thinking and his passion is to help inspire others to have more\, do more\, and be more in life.&nbsp\;&nbsp\;</span><br />\n<br />\n&nbsp\;
LOCATION:
UID:e.2103.7067
SEQUENCE:3
DTSTAMP:20260419T214252Z
URL:http://business.latrobelaurelvalley.com/events/details/lunch-and-learn-at-chef-datos-table-7067
END:VEVENT

END:VCALENDAR
