BEGIN:VCALENDAR
VERSION:2.0
PRODID:-//ChamberMaster//Event Calendar 2.0//EN
METHOD:PUBLISH
X-PUBLISHED-TTL:P3D
REFRESH-INTERVAL:P3D
CALSCALE:GREGORIAN
BEGIN:VEVENT
DTSTART:20180227T221500Z
DTEND:20180227T234500Z
X-MICROSOFT-CDO-ALLDAYEVENT:FALSE
SUMMARY:Lesco's I <3 Networking Wine & Cheese Event
DESCRIPTION:It's time to network! I  3 Networking sponsored by Lesco Federal Credit Union will be held on February 27th at 5:15. \n\n\n\nAre you looking for a job\, searching for an internship\, or wanting to meet other young professionals in the community? Enjoy an evening of networking\, meeting new contacts\, and socializing with our area's finest Young Professionals.\n\n\n\nJoin the YPG members on Tuesday February 27th at Lesco Federal Credit Union. Wine and cheese will be provided. Please register online or call the chamber office (724-537-2671.)
X-ALT-DESC;FMTTYPE=text/html:<span style="font-size:14px\;"><span style="font-family:times new roman\;">It&#39\;s time to network! I &lt\;3 Networking sponsored by Lesco&nbsp\;Federal Credit Union will be held on February 27th at 5:15.&nbsp\;<br />\n<br />\nAre you looking for a job\, searching for an internship\, or wanting to meet other young professionals in the community? Enjoy an evening of networking\, meeting new contacts\, and socializing with our area&#39\;s finest Young Professionals.<br />\n<br />\nJoin the YPG members on Tuesday February 27th at Lesco Federal Credit Union. Wine and cheese will be provided. Please register online or call the chamber office (724-537-2671.)</span></span>
LOCATION:Lesco Federal Credit Union 2613 Ligonier St Latrobe\, PA 15650
UID:e.2103.2869
SEQUENCE:3
DTSTAMP:20260422T124914Z
URL:http://business.latrobelaurelvalley.com/events/details/lesco-s-i-3-networking-wine-cheese-event-2869
END:VEVENT

END:VCALENDAR
