BEGIN:VCALENDAR
VERSION:2.0
PRODID:-//ChamberMaster//Event Calendar 2.0//EN
METHOD:PUBLISH
X-PUBLISHED-TTL:P3D
REFRESH-INTERVAL:P3D
CALSCALE:GREGORIAN
BEGIN:VEVENT
DTSTART:20181104T150000Z
DTEND:20181104T200000Z
X-MICROSOFT-CDO-ALLDAYEVENT:FALSE
SUMMARY:HOLIDAY CRAFT & VENDOR SHOW
DESCRIPTION:Y.A.R.D. Crafts for the Clock Holiday Crafts and Vendor Show
X-ALT-DESC;FMTTYPE=text/html:Y.A.R.D. Crafts for the Clock Holiday Crafts and Vendor Show
LOCATION:Youngwood Fire Dept. Social Hall
UID:e.2103.6566
SEQUENCE:3
DTSTAMP:20260419T192131Z
URL:http://business.latrobelaurelvalley.com/events/details/holiday-craft-vendor-show-6566
END:VEVENT

END:VCALENDAR
