BEGIN:VCALENDAR
VERSION:2.0
PRODID:-//ChamberMaster//Event Calendar 2.0//EN
METHOD:PUBLISH
X-PUBLISHED-TTL:P3D
REFRESH-INTERVAL:P3D
CALSCALE:GREGORIAN
BEGIN:VEVENT
DTSTART;VALUE=DATE:20180824
DTEND;VALUE=DATE:20180827
TRANSP:TRANSPARENT
X-MICROSOFT-CDO-ALLDAYEVENT:TRUE
SUMMARY:Great American Banana Split Celebration
DESCRIPTION:Come celebrate this sweet event filled with vendors\, activities for kids and adults\, a 5k run\, a full line-up of entertainment acts\, pie eating contest\, fun run\, food\, car cruise\, and\, of course\, a banana split!\n\n\n\nFind the full schedule at bananasplitfest.com\n\nFacebook page\n\nTwitter\n\nInstagram\n\nSnapchat
X-ALT-DESC;FMTTYPE=text/html:Come celebrate this sweet event filled with vendors\, activities for kids and adults\, a 5k run\, a full line-up of entertainment acts\, pie eating contest\, fun run\, food\, car cruise\, and\, of course\, a banana split!<br />\n<br />\nFind the full schedule at <a href="http://bananasplitfest.com">bananasplitfest.com</a><br />\n<a href="http://fb.com/bananasplitfest">Facebook page</a><br />\n<a href="http://twitter.com/bananasplitfest">Twitter</a><br />\n<a href="http://instagram.com/bananasplitfest">Instagram</a><br />\n<a href="http://snapchat.com/add/bananasplitfest">Snapchat</a>
LOCATION:The annual event takes place in Downtown Latrobe\, PA
UID:e.2103.4933
SEQUENCE:3
DTSTAMP:20260420T002828Z
URL:http://business.latrobelaurelvalley.com/events/details/great-american-banana-split-celebration-4933
END:VEVENT

END:VCALENDAR
