BEGIN:VCALENDAR
VERSION:2.0
PRODID:-//ChamberMaster//Event Calendar 2.0//EN
METHOD:PUBLISH
X-PUBLISHED-TTL:P3D
REFRESH-INTERVAL:P3D
CALSCALE:GREGORIAN
BEGIN:VEVENT
DTSTART:20200311T160000Z
DTEND:20200311T170000Z
X-MICROSOFT-CDO-ALLDAYEVENT:FALSE
SUMMARY:GOOGLE LIVESTREAM-SPRING Into Action
DESCRIPTION:Spring into Action!\n\nStart the year off on the right foot by learning how to use Google Analytics to gain insights into how consumers engage with businesses online. Learn best practices analyzing customer trends and turning these insights into actionable decisions.\n\nThis is a great tool for Small Businesses and  Non-Profits
X-ALT-DESC;FMTTYPE=text/html:<p style="background-color: rgb(255\, 255\, 255)\; margin-top: 0px\; margin-bottom: 15px\; font-family: Roboto\, Helvetica\, Arial\, sans-serif\; font-size: 16px\; line-height: 24px\; color: rgb(95\, 99\, 104)\; max-width: 580px\;"><b>Spring into Action!</b></p>\n\n<p style="background-color: rgb(255\, 255\, 255)\; margin-top: 0px\; margin-bottom: 15px\; font-family: Roboto\, Helvetica\, Arial\, sans-serif\; font-size: 16px\; line-height: 24px\; color: rgb(95\, 99\, 104)\; max-width: 580px\;"><i>Start the year off on the right foot by learning how to use Google Analytics to gain insights into how consumers engage with businesses online. Learn best practices analyzing customer trends and turning these insights into actionable decisions.</i></p>\n\n<p style="background-color: rgb(255\, 255\, 255)\; margin-top: 0px\; margin-bottom: 30px\; font-family: Roboto\, Helvetica\, Arial\, sans-serif\; font-size: 16px\; line-height: 24px\; color: rgb(95\, 99\, 104)\; max-width: 580px\;">This is a great tool for Small Businesses and&nbsp\;&nbsp\;Non-Profits</p>\n
LOCATION:GLLV Chamber of Commerce Visitor and Information Center 811 Ligonier Street Downtown Latrobe\, PA 15650
UID:e.2103.9415
SEQUENCE:3
DTSTAMP:20260420T085007Z
URL:http://business.latrobelaurelvalley.com/events/details/google-livestream-spring-into-action-9415
END:VEVENT

END:VCALENDAR
