BEGIN:VCALENDAR
VERSION:2.0
PRODID:-//ChamberMaster//Event Calendar 2.0//EN
METHOD:PUBLISH
X-PUBLISHED-TTL:P3D
REFRESH-INTERVAL:P3D
CALSCALE:GREGORIAN
BEGIN:VEVENT
DTSTART:20180917T120000Z
DTEND:20180917T130000Z
X-MICROSOFT-CDO-ALLDAYEVENT:FALSE
SUMMARY:Chamber Board of Directors Executive Committee Meeting (2018\, September)
DESCRIPTION:Chamber of Commerce Executive Board Meeting
X-ALT-DESC;FMTTYPE=text/html:Chamber of Commerce Executive Board Meeting<br />\n&nbsp\;
LOCATION:
UID:e.2103.9634
SEQUENCE:3
DTSTAMP:20260419T224533Z
URL:http://business.latrobelaurelvalley.com/events/details/chamber-board-of-directors-executive-committee-meeting-2018-september-9634
END:VEVENT

END:VCALENDAR
