BEGIN:VCALENDAR
VERSION:2.0
PRODID:-//ChamberMaster//Event Calendar 2.0//EN
METHOD:PUBLISH
X-PUBLISHED-TTL:P3D
REFRESH-INTERVAL:P3D
CALSCALE:GREGORIAN
BEGIN:VEVENT
DTSTART:20181212T220500Z
DTEND:20181212T233500Z
X-MICROSOFT-CDO-ALLDAYEVENT:FALSE
SUMMARY:Business After Hours @ SpringHill Suites by Marriott Latrobe - UGLY SWEATER CONTEST!
DESCRIPTION:"UGLY HOLIDAY SWEATER" Party at December's Business After Hours @ SpringHill Suites by Marriott Latrobe!\n\n\n\nIt's that time of year again! Get out your "Ugly Holiday Sweater" and prepare for some FUN holiday networking! Our last Business After Hours of 2018\, and the Chamber's Holiday Party\, will take place on Wednesday\, December 12th @ 5:05pm - 6:35pm. Come and Celebrate the Holidays!\n\n\n\nEvent Details:\n\n	Spotlight Tables\n	Holiday Music\n	Free Appetizers\n	Cash Bar (Drink Specials!)\n	Door Prizes (Business Cards needed to win!)\n	Ugly Sweater Contest - PRIZES AWARDED!\n	Final BAH for 2018
X-ALT-DESC;FMTTYPE=text/html:<strong>&quot\;UGLY HOLIDAY SWEATER&quot\; Party at December&#39\;s Business After Hours @ SpringHill Suites by Marriott Latrobe!</strong><br />\n<br />\nIt&#39\;s that time of year again! Get out your <span style="font-family:comic sans ms\;"><strong>&quot\;Ugly Holiday Sweater&quot\; </strong></span>and prepare for some FUN holiday networking! Our last Business After Hours of 2018\, and the Chamber&#39\;s Holiday Party\, will take place on Wednesday\, December 12th @ 5:05pm - 6:35pm. Come and Celebrate the Holidays!<br />\n<br />\n<span style="font-family:comic sans ms\;"><strong>Event Details:</strong></span>\n<ul>\n	<li>Spotlight Tables</li>\n	<li>Holiday Music</li>\n	<li>Free Appetizers</li>\n	<li>Cash Bar (Drink Specials!)</li>\n	<li>Door Prizes (Business Cards needed to win!)</li>\n	<li>Ugly Sweater Contest - PRIZES AWARDED!</li>\n	<li>Final BAH for 2018</li>\n</ul>\n
LOCATION:SpringHill Suites by Marriott Latrobe 115 Arnold Palmer Drive Latrobe PA 15650 (724) 537-7800
UID:e.2103.6577
SEQUENCE:3
DTSTAMP:20260419T180311Z
URL:http://business.latrobelaurelvalley.com/events/details/business-after-hours-springhill-suites-by-marriott-latrobe-ugly-sweater-contest-6577
END:VEVENT

END:VCALENDAR
