BEGIN:VCALENDAR
VERSION:2.0
PRODID:-//ChamberMaster//Event Calendar 2.0//EN
METHOD:PUBLISH
X-PUBLISHED-TTL:P3D
REFRESH-INTERVAL:P3D
CALSCALE:GREGORIAN
BEGIN:VEVENT
DTSTART:20180214T220500Z
DTEND:20180214T233500Z
X-MICROSOFT-CDO-ALLDAYEVENT:FALSE
SUMMARY:Business After Hours Presented by Dollar Bank
DESCRIPTION:Join us this Valentine's Day at Dollar Bank in Greensburg (WESTMORELAND BRANCH) on February 14th at 5:05 for the GLLV Chamber Business After Hours sponsored by Dollar Bank in Greensburg. Come network before your Valentine's Day Dinner dates! \n\n\n\nEvent Features: \n\n	50/50 \n	Business Spotlight Tables\n	Door Prizes\n	Music\n	Appetizers & beverages
X-ALT-DESC;FMTTYPE=text/html:Join us this Valentine&#39\;s Day at Dollar Bank in Greensburg (<strong><u>WESTMORELAND BRANCH)</u></strong> on February 14th at 5:05 for the GLLV Chamber Business After Hours sponsored by Dollar Bank in Greensburg. Come network before your Valentine&#39\;s Day Dinner dates!&nbsp\;<br />\n<br />\n<strong>Event Features:&nbsp\;</strong>\n<ul>\n	<li><strong>50/50&nbsp\;</strong></li>\n	<li><strong>Business Spotlight Tables</strong></li>\n	<li><strong>Door Prizes</strong></li>\n	<li><strong>Music</strong></li>\n	<li><strong>Appetizers &amp\; beverages</strong></li>\n</ul>\n<strong>&nbsp\;</strong>&nbsp\;
LOCATION:Dollar Bank Greensburg (In front of Westmoreland Mall) 5300 Route 30 Greensburg\, PA 15601
UID:e.2103.2868
SEQUENCE:3
DTSTAMP:20260424T105620Z
URL:http://business.latrobelaurelvalley.com/events/details/business-after-hours-presented-by-dollar-bank-2868
END:VEVENT

END:VCALENDAR
