BEGIN:VCALENDAR
VERSION:2.0
PRODID:-//ChamberMaster//Event Calendar 2.0//EN
METHOD:PUBLISH
X-PUBLISHED-TTL:P3D
REFRESH-INTERVAL:P3D
CALSCALE:GREGORIAN
BEGIN:VEVENT
DTSTART:20190209T210000Z
DTEND:20190209T230000Z
X-MICROSOFT-CDO-ALLDAYEVENT:FALSE
SUMMARY:Bowling for DARCee
DESCRIPTION:Come spend some time bowling at Lincoln Lanes and raise money for a good cause!  Derry Area Revitalization Corporation..
X-ALT-DESC;FMTTYPE=text/html:Come spend some time bowling at Lincoln Lanes and raise money for a good cause!&nbsp\; Derry Area Revitalization Corporation..
LOCATION:Lincoln Lanes\, Latrobe PA
UID:e.2103.6625
SEQUENCE:3
DTSTAMP:20260419T161914Z
URL:http://business.latrobelaurelvalley.com/events/details/bowling-for-darcee-6625
END:VEVENT

END:VCALENDAR
