BEGIN:VCALENDAR
VERSION:2.0
PRODID:-//ChamberMaster//Event Calendar 2.0//EN
METHOD:PUBLISH
X-PUBLISHED-TTL:P3D
REFRESH-INTERVAL:P3D
CALSCALE:GREGORIAN
BEGIN:VEVENT
DTSTART:20180921T120000Z
DTEND:20180921T130000Z
X-MICROSOFT-CDO-ALLDAYEVENT:FALSE
SUMMARY:Board of Directors Meeting (2018\, September)
DESCRIPTION:Organizational meeting of the Board of Directors
X-ALT-DESC;FMTTYPE=text/html:Organizational meeting of the Board of Directors
LOCATION:
UID:e.2103.9553
SEQUENCE:3
DTSTAMP:20260419T224123Z
URL:http://business.latrobelaurelvalley.com/events/details/board-of-directors-meeting-2018-september-9553
END:VEVENT

END:VCALENDAR
