BEGIN:VCALENDAR
VERSION:2.0
PRODID:-//ChamberMaster//Event Calendar 2.0//EN
METHOD:PUBLISH
X-PUBLISHED-TTL:P3D
REFRESH-INTERVAL:P3D
CALSCALE:GREGORIAN
BEGIN:VEVENT
DTSTART:20180805T160000Z
DTEND:20180805T220000Z
X-MICROSOFT-CDO-ALLDAYEVENT:FALSE
SUMMARY:Blackout Tinting Grand Opening
DESCRIPTION:Come & celebrate the grand opening of the new location of Blackout Tinting on August 5th from 12 noon - 6 pm.\n\n\n\nThis celebration will include small bites\, Latrobe Dairy Queen treats\, product demonstrations\, corn hole tournament\, open house\, giveaways\, and tour of the new store! There will also be a viewing of a super car show!\n\n\n\nRibbon will be cut and celebrated by the GLLV Chamber at 12:30 pm.
X-ALT-DESC;FMTTYPE=text/html:Come &amp\; celebrate the grand opening of the new location of Blackout Tinting on August 5th&nbsp\;from 12 noon - 6 pm.<br />\n<br />\nThis celebration will include small bites\, Latrobe Dairy Queen treats\, product demonstrations\, corn hole&nbsp\;tournament\, open house\, giveaways\, and tour of the new store! There will also be a viewing of a super car show!<br />\n<br />\nRibbon will be cut and celebrated by the GLLV Chamber at 12:30 pm.&nbsp\;<br />\n<br />\n&nbsp\;
LOCATION:5797 Route 981 Latrobe\, PA 15650
UID:e.2103.4949
SEQUENCE:3
DTSTAMP:20260420T015651Z
URL:http://business.latrobelaurelvalley.com/events/details/blackout-tinting-grand-opening-4949
END:VEVENT

END:VCALENDAR
