BEGIN:VCALENDAR
VERSION:2.0
PRODID:-//ChamberMaster//Event Calendar 2.0//EN
METHOD:PUBLISH
X-PUBLISHED-TTL:P3D
REFRESH-INTERVAL:P3D
CALSCALE:GREGORIAN
BEGIN:VEVENT
DTSTART:20190118T210000Z
DTEND:20190118T230000Z
X-MICROSOFT-CDO-ALLDAYEVENT:FALSE
SUMMARY:Battlezone Latrobe Grand Opening RIbbon Cutting
DESCRIPTION:Battle Zone will be having an open house for its grand opening where visitors can try their games and enjoy some food and drink. In all three games\, players shoot either foam or rubber balls out of modified paintball guns. The first game is classic dodgeball where players are split up into two teams and fire the foam balls at each other until one team is eliminated. The second game is capture the flag with bunkers and obstacles on the course. Once one of the two teams has captured the opponent's flag\, they win the game. The last game is paintball with bunkers and obstacles as well\, but the guns shoot soft wire-framed urethane balls instead of paintballs\, so the game is pain free. Stop by their location in Latrobe from 4:00PM to 6:00PM on Friday to give it a try! The ribbon cutting ceremony will begin at 4:30 pm.
X-ALT-DESC;FMTTYPE=text/html:<div style="color: rgb(34\, 34\, 34)\; font-family: Arial\, Helvetica\, sans-serif\; font-size: small\;">Battle Zone will be having an open house for its grand opening where visitors can try their games and enjoy some food and drink. In all three games\, players shoot either foam or rubber balls out of modified paintball guns. The first game is classic dodgeball where players are split up into two teams and fire the foam balls at each other until one team is eliminated. The second game is capture the flag with bunkers and obstacles on the course. Once one of the two teams has captured the opponent&#39\;s flag\, they win the game. The last game is paintball with bunkers and obstacles as well\, but the guns shoot soft wire-framed urethane balls instead of paintballs\, so the game is pain free. Stop by their location in Latrobe from 4:00PM to 6:00PM on Friday to give it a try! The ribbon cutting ceremony will begin at 4:30 pm.&nbsp\;</div>\n
LOCATION:1025 Latrobe 30 Plaza Suite 120 Latrobe\, PA 15650 *Located next to Goodwill
UID:e.2103.6609
SEQUENCE:3
DTSTAMP:20260419T162248Z
URL:http://business.latrobelaurelvalley.com/events/details/battlezone-latrobe-grand-opening-ribbon-cutting-6609
END:VEVENT

END:VCALENDAR
