BEGIN:VCALENDAR
VERSION:2.0
PRODID:-//ChamberMaster//Event Calendar 2.0//EN
METHOD:PUBLISH
X-PUBLISHED-TTL:P3D
REFRESH-INTERVAL:P3D
CALSCALE:GREGORIAN
BEGIN:VEVENT
DTSTART:20190516T200000Z
DTEND:20190516T230000Z
X-MICROSOFT-CDO-ALLDAYEVENT:FALSE
SUMMARY:Adelphoi Showcase of Stars
DESCRIPTION:Ribbon Cutting at 4:30 PM!\n\n\n\nAdelphoi's Showcase of Stars will be held at 5 p.m. on Thursday\, May 16 in conjunction with the grand opening of the Youth and Family Center on Adelphoi's main campus. The event will highlight recipients of the Adelphoi Promise Scholarship Program.\n\nThe program will also include tours of the new facility\, a performance by the Theatre Program\, and delicious bites prepared by the culinary students.\n\n TO REGISTER\, EMAIL EVENTS@ADELPHOI.ORG
X-ALT-DESC;FMTTYPE=text/html:<div class="uk-text-lead uk-margin" style="font-size: 1.25rem\; line-height: 1.5\; color: rgb(51\, 51\, 51)\; margin-bottom: 20px\; font-family: &quot\;Noto Sans&quot\;\; background-color: rgb(247\, 247\, 247)\;">Ribbon Cutting at 4:30 PM!<br />\n<br />\nAdelphoi&#39\;s Showcase of Stars will be held at 5 p.m. on Thursday\, May 16 in conjunction with the grand opening of the Youth and Family Center on Adelphoi&rsquo\;s main campus. The event will highlight recipients of the Adelphoi Promise Scholarship Program.</div>\n\n<div class="uk-text-lead uk-margin" style="font-size: 1.25rem\; line-height: 1.5\; color: rgb(51\, 51\, 51)\; margin-bottom: 20px\; font-family: &quot\;Noto Sans&quot\;\; background-color: rgb(247\, 247\, 247)\; margin-top: 20px !important\;">The program will also include tours of the new facility\, a performance by the Theatre Program\, and delicious bites prepared by the culinary students.</div>\n\n<div class="uk-margin" style="margin-bottom: 0px\; color: rgb(46\, 47\, 52)\; font-family: &quot\;Noto Sans&quot\;\; font-size: 16px\; background-color: rgb(247\, 247\, 247)\; margin-top: 20px !important\;"><a class="el-content uk-button uk-button-text" href="mailto:events@adelphoi.org" style="color: rgb(51\, 51\, 51)\; text-decoration-line: none\; cursor: pointer\; margin: 0px\; border: none\; overflow: visible\; font-style: inherit\; font-variant: inherit\; font-stretch: inherit\; display: inline-block\; box-sizing: border-box\; padding: 0px\; vertical-align: middle\; font-size: 1rem\; line-height: 1.5\; text-align: center\; transition: color 0.1s ease-in-out 0s\, background-color 0s ease 0s\, background-position 0s ease 0s\, border-color 0s ease 0s\, box-shadow 0s ease 0s\; font-family: Montserrat\; font-weight: 700\; text-transform: uppercase\; letter-spacing: 0.7px\; background: 0px 0px\; position: relative\; z-index: 0\;" target="_blank"><span class="uk-icon" style="margin: 0px\; border: none\; border-radius: 0px\; overflow: visible\; font-style: inherit\; font-variant: inherit\; font-weight: inherit\; font-stretch: inherit\; font-size: inherit\; font-family: inherit\; color: inherit\; text-transform: none\; padding: 0px\; background-color: transparent\; display: inline-block\; fill: currentcolor\; line-height: 0\;" uk-icon="mail"><svg data-svg="mail" height="20" viewbox="0 0 20 20" width="20" xmlns="http://www.w3.org/2000/svg"><polyline fill="none" points="1.4\,6.5 10\,11 18.6\,6.5" stroke="#000"></polyline><path d="M 1\,4 1\,16 19\,16 19\,4 1\,4 Z M 18\,15 2\,15 2\,5 18\,5 18\,15 Z"></path></svg></span>&nbsp\;<span class="uk-text-middle" style="vertical-align: middle !important\;">TO REGISTER\, EMAIL EVENTS@ADELPHOI.ORG</span></a></div>\n
LOCATION:
UID:e.2103.7129
SEQUENCE:3
DTSTAMP:20260419T142820Z
URL:http://business.latrobelaurelvalley.com/events/details/adelphoi-showcase-of-stars-7129
END:VEVENT

END:VCALENDAR
