BEGIN:VCALENDAR
VERSION:2.0
PRODID:-//ChamberMaster//Event Calendar 2.0//EN
METHOD:PUBLISH
X-PUBLISHED-TTL:P3D
REFRESH-INTERVAL:P3D
CALSCALE:GREGORIAN
BEGIN:VEVENT
DTSTART;VALUE=DATE:20181022
DTEND;VALUE=DATE:20181023
TRANSP:TRANSPARENT
X-MICROSOFT-CDO-ALLDAYEVENT:TRUE
SUMMARY:73rd Annual Awards Dinner & Ceremony
DESCRIPTION:Join us as we celebrate our 2018 Awardees for our 73rd Annual Dinner & Awards Ceremony\, presented by Commercial Bank & Trust hosted at the Fred Rogers Center located on Saint Vincent College's campus.\n\n\n\nCongratulations to the following Award Winners: \n\n\n\nCommunity Service Award: Quatrini Rafferty\, P.C.\n\nVolunteer of the Year Award: Tim Bates\n\nSmall Business of the Year Award: Rusbosin Furniture\n\nNon Profit of the Year Award: CASA of Westmoreland\n\n\n\nThe community service award has been given to over 60 recipients - including Fred Rogers\, Arnold Palmer\, and "Ice Cream Joe" Gruebel.\n\n\n\nKeynote speaker for the evening will be Paul Siefken\, the president and Chief Executive Officer of Fred Rogers Productions. Fred Rogers Production strives to continue the legacy of Fred Rogers\, providing the highest quality educational programming to children via broadcast media. Siefken has preciously worked with Cartoon Network and PBS before moving to Pittsburgh based Fred Rogers Productions. \n\n\n\nRegistration is required - Please see the form below & fill it out to be mailed to PO BOX 463\, Latrobe\, PA 15650\n\n\n\nRegistration Form is HERE
X-ALT-DESC;FMTTYPE=text/html:<span style="font-size:20px\;"><span style="font-family:verdana\;">Join us as we celebrate our 2018 Awardees for our 73rd Annual Dinner &amp\; Awards Ceremony\, presented by Commercial Bank &amp\; Trust hosted at the Fred Rogers Center located on Saint Vincent College&#39\;s campus.<br />\n<br />\nCongratulations to the following Award Winners:&nbsp\;<br />\n<br />\nCommunity Service Award: Quatrini Rafferty\, P.C.<br />\nVolunteer of the Year Award: Tim Bates<br />\nSmall Business of the Year Award: Rusbosin Furniture<br />\nNon Profit of the Year Award: CASA of Westmoreland<br />\n<br />\nThe community service award has been given to over 60 recipients - including Fred Rogers\, Arnold Palmer\, and &quot\;Ice Cream Joe&quot\; Gruebel.<br />\n<br />\nKeynote speaker for the evening will be Paul Siefken\, the president and Chief Executive Officer of Fred Rogers Productions. Fred Rogers Production strives to continue the legacy of Fred Rogers\, providing the highest quality educational programming to children via broadcast media. Siefken has preciously worked with Cartoon Network and PBS before moving to Pittsburgh based Fred Rogers Productions.&nbsp\;<br />\n<br />\nRegistration is required - Please see the form below &amp\; fill it out to be mailed to PO BOX 463\, Latrobe\, PA 15650<br />\n<br />\n<a href="https://chambermaster.blob.core.windows.net/userfiles/UserFiles/chambers/2103/File/DinnerInvitation-outlines.pdf"><span style="color:#FF0000\;">Registration Form is HERE</span></a></span></span><br />\n<br />\n&nbsp\;\n<p style="margin: 0in 0in 0.0001pt\; background-image: initial\; background-position: initial\; background-size: initial\; background-repeat: initial\; background-attachment: initial\; background-origin: initial\; background-clip: initial\;">&nbsp\;</p>\n\n<p style="margin: 0in 0in 0.0001pt\; background-image: initial\; background-position: initial\; background-size: initial\; background-repeat: initial\; background-attachment: initial\; background-origin: initial\; background-clip: initial\;">&nbsp\;</p>\n
LOCATION:Saint Vincent College Fred Rogers Center
UID:e.2103.3921
SEQUENCE:3
DTSTAMP:20260419T205423Z
URL:http://business.latrobelaurelvalley.com/events/details/73rd-annual-awards-dinner-ceremony-3921
END:VEVENT

END:VCALENDAR
