BEGIN:VCALENDAR
VERSION:2.0
PRODID:-//ChamberMaster//Event Calendar 2.0//EN
METHOD:PUBLISH
X-PUBLISHED-TTL:P3D
REFRESH-INTERVAL:P3D
CALSCALE:GREGORIAN
BEGIN:VEVENT
DTSTART:20180926T120000Z
DTEND:20180926T170000Z
X-MICROSOFT-CDO-ALLDAYEVENT:FALSE
SUMMARY:2018 Power Perspective hosted by Kinect Energy Group
DESCRIPTION:SPECIAL GUEST Rocky Blier\n\nNetwork with Industry Leaders\n\nLearn the Latest on Energy Market Trends\n\nGain Insight into Purchasing Strategies\n\nHedging perspectives from market makers
X-ALT-DESC;FMTTYPE=text/html:SPECIAL GUEST Rocky Blier<br />\nNetwork with Industry Leaders<br />\nLearn the Latest on Energy Market Trends<br />\nGain Insight into Purchasing Strategies<br />\nHedging perspectives from market makers
LOCATION:Montour Heights Country Club 1491 Coraopolis Heights Road Coraopolis\, PA 15108 http://www.regonline.com/2018paevent
UID:e.2103.6467
SEQUENCE:3
DTSTAMP:20260419T223802Z
URL:http://business.latrobelaurelvalley.com/events/details/2018-power-perspective-hosted-by-kinect-energy-group-6467
END:VEVENT

END:VCALENDAR
