BEGIN:VCALENDAR
VERSION:2.0
PRODID:-//ChamberMaster//Event Calendar 2.0//EN
METHOD:PUBLISH
X-PUBLISHED-TTL:P3D
REFRESH-INTERVAL:P3D
CALSCALE:GREGORIAN
BEGIN:VEVENT
DTSTART:20181201T150000Z
DTEND:20181201T200000Z
X-MICROSOFT-CDO-ALLDAYEVENT:FALSE
SUMMARY:2018 Holly Jolly Christmas in Latrobe
DESCRIPTION:Begin your Holiday season with us in downtown Latrobe! Santa will be in James H. Rogers Partk form 11AM-1PM.\n\nFREE to attend.  We will have live musical perfarmances all day.\n\nThere will be crafters\, food\, hot chocolate\, train rides\, and MORE!!
X-ALT-DESC;FMTTYPE=text/html:Begin your Holiday season with us in downtown Latrobe! Santa will be in James H. Rogers Partk form 11AM-1PM.<br />\nFREE to attend.&nbsp\; We will have live musical perfarmances all day.<br />\nThere will be crafters\, food\, hot chocolate\, train rides\, and MORE!!
LOCATION:Downtown Latrobe
UID:e.2103.6573
SEQUENCE:3
DTSTAMP:20260419T192054Z
URL:http://business.latrobelaurelvalley.com/events/details/2018-holly-jolly-christmas-in-latrobe-6573
END:VEVENT

END:VCALENDAR
